BEGIN:VCALENDAR
VERSION:2.0
PRODID:-//Schützenverein Roland Bad Bramstedt - ECPv6.6.3//NONSGML v1.0//EN
CALSCALE:GREGORIAN
METHOD:PUBLISH
X-ORIGINAL-URL:https://www.schuetzenverein-roland.de
X-WR-CALDESC:Veranstaltungen für Schützenverein Roland Bad Bramstedt
REFRESH-INTERVAL;VALUE=DURATION:PT1H
X-Robots-Tag:noindex
X-PUBLISHED-TTL:PT1H
BEGIN:VTIMEZONE
TZID:Europe/Berlin
BEGIN:DAYLIGHT
TZOFFSETFROM:+0100
TZOFFSETTO:+0200
TZNAME:CEST
DTSTART:20240331T010000
END:DAYLIGHT
BEGIN:STANDARD
TZOFFSETFROM:+0200
TZOFFSETTO:+0100
TZNAME:CET
DTSTART:20241027T010000
END:STANDARD
END:VTIMEZONE
BEGIN:VEVENT
DTSTART;TZID=Europe/Berlin:20241013T100000
DTEND;TZID=Europe/Berlin:20241013T170000
DTSTAMP:20260423T135657
CREATED:20240910T144905Z
LAST-MODIFIED:20240911T125358Z
UID:2402-1728813600-1728838800@www.schuetzenverein-roland.de
SUMMARY:Vereinsmeisterschaft Bogen
DESCRIPTION:Anmeldung unter turnieranmeldung@schuetzenverein-roland.de\nStichwort\nVereinsturnier
URL:https://www.schuetzenverein-roland.de/event/vereinsmeisterschaft-bogen/
LOCATION:Parcours\, Oskar-Alexander-Strasse 1\, Bad Bramstedt\, 24576
ORGANIZER;CN="Bogenabteilung":MAILTO:thorsten.puck@gmail.com
END:VEVENT
END:VCALENDAR