BEGIN:VCALENDAR
VERSION:2.0
PRODID:-//Schützenverein Roland Bad Bramstedt - ECPv6.6.3//NONSGML v1.0//EN
CALSCALE:GREGORIAN
METHOD:PUBLISH
X-ORIGINAL-URL:https://www.schuetzenverein-roland.de
X-WR-CALDESC:Veranstaltungen für Schützenverein Roland Bad Bramstedt
REFRESH-INTERVAL;VALUE=DURATION:PT1H
X-Robots-Tag:noindex
X-PUBLISHED-TTL:PT1H
BEGIN:VTIMEZONE
TZID:Europe/Berlin
BEGIN:DAYLIGHT
TZOFFSETFROM:+0100
TZOFFSETTO:+0200
TZNAME:CEST
DTSTART:20240331T010000
END:DAYLIGHT
BEGIN:STANDARD
TZOFFSETFROM:+0200
TZOFFSETTO:+0100
TZNAME:CET
DTSTART:20241027T010000
END:STANDARD
BEGIN:DAYLIGHT
TZOFFSETFROM:+0100
TZOFFSETTO:+0200
TZNAME:CEST
DTSTART:20250330T010000
END:DAYLIGHT
BEGIN:STANDARD
TZOFFSETFROM:+0200
TZOFFSETTO:+0100
TZNAME:CET
DTSTART:20251026T010000
END:STANDARD
END:VTIMEZONE
BEGIN:VEVENT
DTSTART;TZID=Europe/Berlin:20250208T170000
DTEND;TZID=Europe/Berlin:20250208T170000
DTSTAMP:20260420T085725
CREATED:20250112T130008Z
LAST-MODIFIED:20250116T162239Z
UID:2423-1739034000-1739034000@www.schuetzenverein-roland.de
SUMMARY:Jahreshauptversammlung 2025
DESCRIPTION:Die Jahreshauptversammlung 2025 findet am 8. Februar 2025 im Vereinsheim statt. Das Protokoll der letzten Mitgliederversammlung vom 17. April 2024 kann unter folgendem Link https://1drv.ms/b/s!AhB1Dz8yiyWFjrdbBPy_eAWlEXJEXQ?e=Uea4JE eingesehen werden\, das erforderliche Passwort ist auf Anfrage beim 1. Vorsitzenden erhältlich.
URL:https://www.schuetzenverein-roland.de/event/jahreshauptversammlung-2025/
END:VEVENT
BEGIN:VEVENT
DTSTART;TZID=Europe/Berlin:20241207T170000
DTEND;TZID=Europe/Berlin:20241207T230000
DTSTAMP:20260420T085725
CREATED:20240910T144355Z
LAST-MODIFIED:20240910T144355Z
UID:2396-1733590800-1733612400@www.schuetzenverein-roland.de
SUMMARY:Weihnachtsfeier
DESCRIPTION:
URL:https://www.schuetzenverein-roland.de/event/weihnachtsfeier/
LOCATION:Schützenhaus\, Rugenbusch 14\, Bad Bramstedt\, Schleswig-Holstein\, 24576
END:VEVENT
BEGIN:VEVENT
DTSTART;TZID=Europe/Berlin:20241013T100000
DTEND;TZID=Europe/Berlin:20241013T170000
DTSTAMP:20260420T085725
CREATED:20240910T144905Z
LAST-MODIFIED:20240911T125358Z
UID:2402-1728813600-1728838800@www.schuetzenverein-roland.de
SUMMARY:Vereinsmeisterschaft Bogen
DESCRIPTION:Anmeldung unter turnieranmeldung@schuetzenverein-roland.de\nStichwort\nVereinsturnier
URL:https://www.schuetzenverein-roland.de/event/vereinsmeisterschaft-bogen/
LOCATION:Parcours\, Oskar-Alexander-Strasse 1\, Bad Bramstedt\, 24576
ORGANIZER;CN="Bogenabteilung":MAILTO:thorsten.puck@gmail.com
END:VEVENT
BEGIN:VEVENT
DTSTART;TZID=Europe/Berlin:20241012T080000
DTEND;TZID=Europe/Berlin:20241012T170000
DTSTAMP:20260420T085725
CREATED:20240910T144728Z
LAST-MODIFIED:20240910T144728Z
UID:2399-1728720000-1728752400@www.schuetzenverein-roland.de
SUMMARY:2. Auenlandturnier
DESCRIPTION:Gästeturnier im Burkhard-Müller-Bogenparcours
URL:https://www.schuetzenverein-roland.de/event/2-auenlandturnier/
LOCATION:Parcours\, Oskar-Alexander-Strasse 1\, Bad Bramstedt\, 24576
END:VEVENT
BEGIN:VEVENT
DTSTART;TZID=Europe/Berlin:20240922T140000
DTEND;TZID=Europe/Berlin:20240922T170000
DTSTAMP:20260420T085725
CREATED:20240911T130041Z
LAST-MODIFIED:20240911T130041Z
UID:2404-1727013600-1727024400@www.schuetzenverein-roland.de
SUMMARY:Königsproklamation
DESCRIPTION:Liebe Schützenbrüder\, liebe Schützenschwestern\,\nam vergangenen Sonntag haben wir in kleiner\, aber sehr vergnügter Runde unseren neuen König\nausgeschossen! \nVorher waren wir von unserem aktuellen Schützenkönig Thorsten Spolka zu einem\näußerst leckeren Frühstück eingeladen worden\, so dass es ein sehr gelungener Tag war. \nUnd nun steigt die Spannung – wer wird neuer Schützenkönig unseres Schützenvereins Roland Bad Bramstedt? \nWir laden herzlich ein zur Königsproklamation am Sonntag\, 22. September um 14:00h im Schützenhaus\nUm hierfür einen kleinen Imbiss planen zu können\, bitten wir unbedingt um Anmeldung an vorstand@schuetzenverein-roland.de oder unter einer der auf der Homepage veröffentlichten Rufnummern.\nMit freundlichen Schützengrüßen\nDer Vorstand
URL:https://www.schuetzenverein-roland.de/event/koenigsproklamation/
LOCATION:Schützenhaus\, Rugenbusch 14\, Bad Bramstedt\, Schleswig-Holstein\, 24576
END:VEVENT
BEGIN:VEVENT
DTSTART;TZID=Europe/Berlin:20240921T100000
DTEND;TZID=Europe/Berlin:20240921T170000
DTSTAMP:20260420T085725
CREATED:20240909T102857Z
LAST-MODIFIED:20240910T092619Z
UID:2380-1726912800-1726938000@www.schuetzenverein-roland.de
SUMMARY:Arbeitseinsatz Bogenabteilung
DESCRIPTION:Themen für den Arbeitseinsatz:\nHütte streichen\nParcours vorbereiten für das Turnier\nWerkzeugschuppen abholen und neu aufbauen
URL:https://www.schuetzenverein-roland.de/event/arbeitseinsatz-bogenabteilung/
LOCATION:Arbeitseinsatz\, Rugenbusch 14\, Bad Bramstedt\, Schleswig-Holstein\, 24576
ORGANIZER;CN="Bogenabteilung":MAILTO:thorsten.puck@gmail.com
END:VEVENT
END:VCALENDAR